BEGIN:VCALENDAR
VERSION:2.0
PRODID:-//Lancer Local News - ECPv6.15.20//NONSGML v1.0//EN
CALSCALE:GREGORIAN
METHOD:PUBLISH
X-ORIGINAL-URL:https://lancerlocalnews.org
X-WR-CALDESC:Events for Lancer Local News
REFRESH-INTERVAL;VALUE=DURATION:PT1H
X-Robots-Tag:noindex
X-PUBLISHED-TTL:PT1H
BEGIN:VTIMEZONE
TZID:America/New_York
BEGIN:DAYLIGHT
TZOFFSETFROM:-0500
TZOFFSETTO:-0400
TZNAME:EDT
DTSTART:20220313T070000
END:DAYLIGHT
BEGIN:STANDARD
TZOFFSETFROM:-0400
TZOFFSETTO:-0500
TZNAME:EST
DTSTART:20221106T060000
END:STANDARD
BEGIN:DAYLIGHT
TZOFFSETFROM:-0500
TZOFFSETTO:-0400
TZNAME:EDT
DTSTART:20230312T070000
END:DAYLIGHT
BEGIN:STANDARD
TZOFFSETFROM:-0400
TZOFFSETTO:-0500
TZNAME:EST
DTSTART:20231105T060000
END:STANDARD
BEGIN:DAYLIGHT
TZOFFSETFROM:-0500
TZOFFSETTO:-0400
TZNAME:EDT
DTSTART:20240310T070000
END:DAYLIGHT
BEGIN:STANDARD
TZOFFSETFROM:-0400
TZOFFSETTO:-0500
TZNAME:EST
DTSTART:20241103T060000
END:STANDARD
END:VTIMEZONE
BEGIN:VEVENT
DTSTART;VALUE=DATE:20230420
DTEND;VALUE=DATE:20230421
DTSTAMP:20260419T145039
CREATED:20230411T170334Z
LAST-MODIFIED:20230411T170642Z
UID:3402-1681948800-1682035199@lancerlocalnews.org
SUMMARY:Government & American History EOC Exams
DESCRIPTION:
URL:https://lancerlocalnews.org/event/government-american-history-eoc-exams/
CATEGORIES:Testing
ATTACH;FMTTYPE=image/jpeg:https://lancerlocalnews.org/wp-content/uploads/2023/04/testing.jpg
END:VEVENT
BEGIN:VEVENT
DTSTART;TZID=America/New_York:20230417T080000
DTEND;TZID=America/New_York:20230417T170000
DTSTAMP:20260419T145039
CREATED:20230411T165735Z
LAST-MODIFIED:20230411T165735Z
UID:3399-1681718400-1681750800@lancerlocalnews.org
SUMMARY:Ag Webxam Testing
DESCRIPTION:
URL:https://lancerlocalnews.org/event/ag-webxam-testing/
CATEGORIES:Testing
ATTACH;FMTTYPE=image/jpeg:https://lancerlocalnews.org/wp-content/uploads/2023/04/testing.jpg
END:VEVENT
END:VCALENDAR