BEGIN:VCALENDAR
VERSION:2.0
PRODID:-//Lancer Local News - ECPv6.15.20//NONSGML v1.0//EN
CALSCALE:GREGORIAN
METHOD:PUBLISH
X-ORIGINAL-URL:https://lancerlocalnews.org
X-WR-CALDESC:Events for Lancer Local News
REFRESH-INTERVAL;VALUE=DURATION:PT1H
X-Robots-Tag:noindex
X-PUBLISHED-TTL:PT1H
BEGIN:VTIMEZONE
TZID:America/New_York
BEGIN:DAYLIGHT
TZOFFSETFROM:-0500
TZOFFSETTO:-0400
TZNAME:EDT
DTSTART:20210314T070000
END:DAYLIGHT
BEGIN:STANDARD
TZOFFSETFROM:-0400
TZOFFSETTO:-0500
TZNAME:EST
DTSTART:20211107T060000
END:STANDARD
BEGIN:DAYLIGHT
TZOFFSETFROM:-0500
TZOFFSETTO:-0400
TZNAME:EDT
DTSTART:20220313T070000
END:DAYLIGHT
BEGIN:STANDARD
TZOFFSETFROM:-0400
TZOFFSETTO:-0500
TZNAME:EST
DTSTART:20221106T060000
END:STANDARD
BEGIN:DAYLIGHT
TZOFFSETFROM:-0500
TZOFFSETTO:-0400
TZNAME:EDT
DTSTART:20230312T070000
END:DAYLIGHT
BEGIN:STANDARD
TZOFFSETFROM:-0400
TZOFFSETTO:-0500
TZNAME:EST
DTSTART:20231105T060000
END:STANDARD
END:VTIMEZONE
BEGIN:VEVENT
DTSTART;TZID=America/New_York:20220512T190000
DTEND;TZID=America/New_York:20220512T203000
DTSTAMP:20260419T132758
CREATED:20211202T200227Z
LAST-MODIFIED:20220510T143926Z
UID:2121-1652382000-1652387400@lancerlocalnews.org
SUMMARY:CLE Public Exhibition
DESCRIPTION:6:00pm – Senior Dinner \n7:00 – 8:30 pm Senior Project Showcase Night (public) \n8:30 – 9:00 pm Cleanup
URL:https://lancerlocalnews.org/event/cle-public-exhibition/
CATEGORIES:Senior Events
END:VEVENT
BEGIN:VEVENT
DTSTART;TZID=America/New_York:20220512T180000
DTEND;TZID=America/New_York:20220512T184500
DTSTAMP:20260419T132758
CREATED:20220510T144006Z
LAST-MODIFIED:20220510T144444Z
UID:2796-1652378400-1652381100@lancerlocalnews.org
SUMMARY:CLE Senior Dinner
DESCRIPTION:
URL:https://lancerlocalnews.org/event/cle-senior-dinner/
CATEGORIES:Senior Events
END:VEVENT
BEGIN:VEVENT
DTSTART;TZID=America/New_York:20220512T110000
DTEND;TZID=America/New_York:20220512T133000
DTSTAMP:20260419T132758
CREATED:20220510T144357Z
LAST-MODIFIED:20220510T144357Z
UID:2803-1652353200-1652362200@lancerlocalnews.org
SUMMARY:CLE Exhibition Set Up
DESCRIPTION:
URL:https://lancerlocalnews.org/event/cle-exhibition-set-up/
CATEGORIES:Senior Events
END:VEVENT
BEGIN:VEVENT
DTSTART;VALUE=DATE:20220503
DTEND;VALUE=DATE:20220504
DTSTAMP:20260419T132758
CREATED:20211202T191652Z
LAST-MODIFIED:20211202T191652Z
UID:2118-1651536000-1651622399@lancerlocalnews.org
SUMMARY:Senior Portfolio Defense Day
DESCRIPTION:
URL:https://lancerlocalnews.org/event/senior-portfolio-defense-day/
CATEGORIES:Senior Events
ATTACH;FMTTYPE=image/png:https://lancerlocalnews.org/wp-content/uploads/2021/12/presentor.png
END:VEVENT
BEGIN:VEVENT
DTSTART;TZID=America/New_York:20220429T090000
DTEND;TZID=America/New_York:20220429T090000
DTSTAMP:20260419T132758
CREATED:20211202T190817Z
LAST-MODIFIED:20211202T190817Z
UID:2115-1651222800-1651222800@lancerlocalnews.org
SUMMARY:Graduation Portfolios DUE to Grading Committees
DESCRIPTION:
URL:https://lancerlocalnews.org/event/graduation-portfolios-due-to-grading-committees/
CATEGORIES:Senior Events
ATTACH;FMTTYPE=image/jpeg:https://lancerlocalnews.org/wp-content/uploads/2021/12/qtq80-k6ADGz.jpeg
END:VEVENT
BEGIN:VEVENT
DTSTART;VALUE=DATE:20220413
DTEND;VALUE=DATE:20220414
DTSTAMP:20260419T132758
CREATED:20220411T141950Z
LAST-MODIFIED:20220411T141950Z
UID:2656-1649808000-1649894399@lancerlocalnews.org
SUMMARY:Senior Trip - Top Golf and Cincinnati Reds
DESCRIPTION:
URL:https://lancerlocalnews.org/event/senior-trip-top-golf-and-cincinnati-reds/
CATEGORIES:Senior Events
ATTACH;FMTTYPE=image/jpeg:https://lancerlocalnews.org/wp-content/uploads/2022/04/qtq80-3xx3Ot.jpeg
END:VEVENT
BEGIN:VEVENT
DTSTART;VALUE=DATE:20220401
DTEND;VALUE=DATE:20220402
DTSTAMP:20260419T132758
CREATED:20220323T164835Z
LAST-MODIFIED:20220323T164835Z
UID:2562-1648771200-1648857599@lancerlocalnews.org
SUMMARY:Senior Retreat - Part 2
DESCRIPTION:
URL:https://lancerlocalnews.org/event/senior-retreat-part-2/
LOCATION:Ohio University Alden Library\, 30 Park Pl\, Athens\, OH\, 45701\, United States
CATEGORIES:Senior Events
ATTACH;FMTTYPE=image/jpeg:https://lancerlocalnews.org/wp-content/uploads/2022/03/IMG_0902-scaled.jpg
END:VEVENT
BEGIN:VEVENT
DTSTART;VALUE=DATE:20220401
DTEND;VALUE=DATE:20220402
DTSTAMP:20260419T132758
CREATED:20211202T190637Z
LAST-MODIFIED:20220323T164405Z
UID:2112-1648771200-1648857599@lancerlocalnews.org
SUMMARY:Final Career Reflection Due
DESCRIPTION:
URL:https://lancerlocalnews.org/event/final-career-reflection-due/
CATEGORIES:Senior Events
ATTACH;FMTTYPE=image/jpeg:https://lancerlocalnews.org/wp-content/uploads/2021/12/qtq80-05941s.jpeg
END:VEVENT
BEGIN:VEVENT
DTSTART;VALUE=DATE:20220304
DTEND;VALUE=DATE:20220305
DTSTAMP:20260419T132758
CREATED:20211202T190345Z
LAST-MODIFIED:20211202T190352Z
UID:2109-1646352000-1646438399@lancerlocalnews.org
SUMMARY:Senior Retreat
DESCRIPTION:
URL:https://lancerlocalnews.org/event/senior-retreat/
CATEGORIES:Senior Events
ATTACH;FMTTYPE=image/jpeg:https://lancerlocalnews.org/wp-content/uploads/2021/12/qtq80-D0erLs.jpeg
END:VEVENT
END:VCALENDAR