BEGIN:VCALENDAR
VERSION:2.0
PRODID:-//Lancer Local News - ECPv6.15.20//NONSGML v1.0//EN
CALSCALE:GREGORIAN
METHOD:PUBLISH
X-WR-CALNAME:Lancer Local News
X-ORIGINAL-URL:https://lancerlocalnews.org
X-WR-CALDESC:Events for Lancer Local News
REFRESH-INTERVAL;VALUE=DURATION:PT1H
X-Robots-Tag:noindex
X-PUBLISHED-TTL:PT1H
BEGIN:VTIMEZONE
TZID:America/New_York
BEGIN:DAYLIGHT
TZOFFSETFROM:-0500
TZOFFSETTO:-0400
TZNAME:EDT
DTSTART:20200308T070000
END:DAYLIGHT
BEGIN:STANDARD
TZOFFSETFROM:-0400
TZOFFSETTO:-0500
TZNAME:EST
DTSTART:20201101T060000
END:STANDARD
BEGIN:DAYLIGHT
TZOFFSETFROM:-0500
TZOFFSETTO:-0400
TZNAME:EDT
DTSTART:20210314T070000
END:DAYLIGHT
BEGIN:STANDARD
TZOFFSETFROM:-0400
TZOFFSETTO:-0500
TZNAME:EST
DTSTART:20211107T060000
END:STANDARD
BEGIN:DAYLIGHT
TZOFFSETFROM:-0500
TZOFFSETTO:-0400
TZNAME:EDT
DTSTART:20220313T070000
END:DAYLIGHT
BEGIN:STANDARD
TZOFFSETFROM:-0400
TZOFFSETTO:-0500
TZNAME:EST
DTSTART:20221106T060000
END:STANDARD
END:VTIMEZONE
BEGIN:VEVENT
DTSTART;TZID=America/New_York:20211130T080000
DTEND;TZID=America/New_York:20211130T143000
DTSTAMP:20260419T200937
CREATED:20211117T160651Z
LAST-MODIFIED:20211119T175908Z
UID:1817-1638259200-1638282600@lancerlocalnews.org
SUMMARY:Red Cross Blood Drive
DESCRIPTION:
URL:https://lancerlocalnews.org/event/red-cross-blood-drive/
LOCATION:Federal Hocking MS – Gymnasium\, 8461 St Rt 144\, OH\, 45778\, United States
CATEGORIES:General School Events
ATTACH;FMTTYPE=image/jpeg:https://lancerlocalnews.org/wp-content/uploads/2021/11/IMG_8978-scaled.jpg
ORGANIZER;CN="Student Trustees":MAILTO:etabler@fhlancers.com
END:VEVENT
BEGIN:VEVENT
DTSTART;VALUE=DATE:20211102
DTEND;VALUE=DATE:20211103
DTSTAMP:20260419T200937
CREATED:20211021T154359Z
LAST-MODIFIED:20211021T154725Z
UID:1298-1635811200-1635897599@lancerlocalnews.org
SUMMARY:NO SCHOOL - Staff Professional Development
DESCRIPTION:
URL:https://lancerlocalnews.org/event/no-school-staff-professional-development/
LOCATION:OH
CATEGORIES:General School Events
END:VEVENT
BEGIN:VEVENT
DTSTART;TZID=America/New_York:20211029T080000
DTEND;TZID=America/New_York:20211029T080000
DTSTAMP:20260419T200937
CREATED:20211013T192505Z
LAST-MODIFIED:20211015T185025Z
UID:1206-1635494400-1635494400@lancerlocalnews.org
SUMMARY:Picture Retakes
DESCRIPTION:Don’t forget that this is picture retake day!
URL:https://lancerlocalnews.org/event/picture-retakes/
LOCATION:Federal Hocking HS/MS\, 8461 St Rt 144\, Stewart\, OH\, 45778\, United States
CATEGORIES:General School Events
END:VEVENT
BEGIN:VEVENT
DTSTART;VALUE=DATE:20211026
DTEND;VALUE=DATE:20211027
DTSTAMP:20260419T200937
CREATED:20211013T192610Z
LAST-MODIFIED:20211013T192610Z
UID:1209-1635206400-1635292799@lancerlocalnews.org
SUMMARY:End of the 1st Nine Weeks
DESCRIPTION:
URL:https://lancerlocalnews.org/event/end-of-the-1st-nine-weeks/
LOCATION:Federal Hocking HS/MS\, 8461 St Rt 144\, Stewart\, OH\, 45778\, United States
CATEGORIES:General School Events
END:VEVENT
END:VCALENDAR