BEGIN:VCALENDAR
VERSION:2.0
PRODID:-//Lancer Local News - ECPv6.15.20//NONSGML v1.0//EN
CALSCALE:GREGORIAN
METHOD:PUBLISH
X-WR-CALNAME:Lancer Local News
X-ORIGINAL-URL:https://lancerlocalnews.org
X-WR-CALDESC:Events for Lancer Local News
REFRESH-INTERVAL;VALUE=DURATION:PT1H
X-Robots-Tag:noindex
X-PUBLISHED-TTL:PT1H
BEGIN:VTIMEZONE
TZID:America/New_York
BEGIN:DAYLIGHT
TZOFFSETFROM:-0500
TZOFFSETTO:-0400
TZNAME:EDT
DTSTART:20200308T070000
END:DAYLIGHT
BEGIN:STANDARD
TZOFFSETFROM:-0400
TZOFFSETTO:-0500
TZNAME:EST
DTSTART:20201101T060000
END:STANDARD
BEGIN:DAYLIGHT
TZOFFSETFROM:-0500
TZOFFSETTO:-0400
TZNAME:EDT
DTSTART:20210314T070000
END:DAYLIGHT
BEGIN:STANDARD
TZOFFSETFROM:-0400
TZOFFSETTO:-0500
TZNAME:EST
DTSTART:20211107T060000
END:STANDARD
BEGIN:DAYLIGHT
TZOFFSETFROM:-0500
TZOFFSETTO:-0400
TZNAME:EDT
DTSTART:20220313T070000
END:DAYLIGHT
BEGIN:STANDARD
TZOFFSETFROM:-0400
TZOFFSETTO:-0500
TZNAME:EST
DTSTART:20221106T060000
END:STANDARD
BEGIN:DAYLIGHT
TZOFFSETFROM:-0500
TZOFFSETTO:-0400
TZNAME:EDT
DTSTART:20230312T070000
END:DAYLIGHT
BEGIN:STANDARD
TZOFFSETFROM:-0400
TZOFFSETTO:-0500
TZNAME:EST
DTSTART:20231105T060000
END:STANDARD
END:VTIMEZONE
BEGIN:VEVENT
DTSTART;VALUE=DATE:20220325
DTEND;VALUE=DATE:20220326
DTSTAMP:20260419T183141
CREATED:20220304T160155Z
LAST-MODIFIED:20220304T160155Z
UID:2517-1648166400-1648252799@lancerlocalnews.org
SUMMARY:End of 3rd Nine Weeks
DESCRIPTION:
URL:https://lancerlocalnews.org/event/end-of-3rd-nine-weeks/
CATEGORIES:General School Events
ATTACH;FMTTYPE=image/jpeg:https://lancerlocalnews.org/wp-content/uploads/2022/03/grades-scaled.jpg
END:VEVENT
BEGIN:VEVENT
DTSTART;TZID=America/New_York:20220317T153000
DTEND;TZID=America/New_York:20220317T184500
DTSTAMP:20260419T183141
CREATED:20220304T163139Z
LAST-MODIFIED:20220304T163139Z
UID:2523-1647531000-1647542700@lancerlocalnews.org
SUMMARY:Parent-Teacher Conferences
DESCRIPTION:
URL:https://lancerlocalnews.org/event/parent-teacher-conferences-2/
LOCATION:Federal Hocking HS/MS\, 8461 St Rt 144\, Stewart\, OH\, 45778\, United States
CATEGORIES:General School Events
ATTACH;FMTTYPE=image/jpeg:https://lancerlocalnews.org/wp-content/uploads/2022/03/p-tconf.jpeg
END:VEVENT
BEGIN:VEVENT
DTSTART;VALUE=DATE:20220307
DTEND;VALUE=DATE:20220312
DTSTAMP:20260419T183141
CREATED:20211214T184035Z
LAST-MODIFIED:20211214T184035Z
UID:2231-1646611200-1647043199@lancerlocalnews.org
SUMMARY:No School - Spring Break
DESCRIPTION:
URL:https://lancerlocalnews.org/event/no-school-spring-break/
CATEGORIES:General School Events
END:VEVENT
BEGIN:VEVENT
DTSTART;VALUE=DATE:20220302
DTEND;VALUE=DATE:20220303
DTSTAMP:20260419T183141
CREATED:20211202T174758Z
LAST-MODIFIED:20220128T162754Z
UID:2103-1646179200-1646265599@lancerlocalnews.org
SUMMARY:No School - Staff PD Day
DESCRIPTION:You get to stay home while teachers have professional development!
URL:https://lancerlocalnews.org/event/2-hour-late-in-3/
CATEGORIES:General School Events
ATTACH;FMTTYPE=image/jpeg:https://lancerlocalnews.org/wp-content/uploads/2021/12/noschoolcalgraphic.jpg
END:VEVENT
BEGIN:VEVENT
DTSTART;TZID=America/New_York:20220301T153000
DTEND;TZID=America/New_York:20220301T184500
DTSTAMP:20260419T183141
CREATED:20220304T160616Z
LAST-MODIFIED:20220304T160616Z
UID:2520-1646148600-1646160300@lancerlocalnews.org
SUMMARY:Parent-Teacher Conferences
DESCRIPTION:
URL:https://lancerlocalnews.org/event/parent-teacher-conferences/
LOCATION:Federal Hocking HS/MS\, 8461 St Rt 144\, Stewart\, OH\, 45778\, United States
CATEGORIES:General School Events
ATTACH;FMTTYPE=image/jpeg:https://lancerlocalnews.org/wp-content/uploads/2022/03/p-tconf.jpeg
END:VEVENT
BEGIN:VEVENT
DTSTART;VALUE=DATE:20220221
DTEND;VALUE=DATE:20220222
DTSTAMP:20260419T183141
CREATED:20211214T183650Z
LAST-MODIFIED:20220217T164936Z
UID:2229-1645401600-1645487999@lancerlocalnews.org
SUMMARY:Make Up Day #1
DESCRIPTION:
URL:https://lancerlocalnews.org/event/no-school-presidents-day/
CATEGORIES:General School Events
END:VEVENT
BEGIN:VEVENT
DTSTART;VALUE=DATE:20220204
DTEND;VALUE=DATE:20220205
DTSTAMP:20260419T183141
CREATED:20211202T174643Z
LAST-MODIFIED:20220217T165021Z
UID:2101-1643932800-1644019199@lancerlocalnews.org
SUMMARY:No School - Staff PD Day
DESCRIPTION:You get to stay home while teachers have professional development!
URL:https://lancerlocalnews.org/event/2-hour-late-in-2/
CATEGORIES:General School Events
ATTACH;FMTTYPE=image/jpeg:https://lancerlocalnews.org/wp-content/uploads/2021/12/noschoolcalgraphic.jpg
END:VEVENT
BEGIN:VEVENT
DTSTART;VALUE=DATE:20220127
DTEND;VALUE=DATE:20220128
DTSTAMP:20260419T183141
CREATED:20211206T133509Z
LAST-MODIFIED:20220128T163223Z
UID:2164-1643241600-1643327999@lancerlocalnews.org
SUMMARY:Spring Semester Starts!
DESCRIPTION:
URL:https://lancerlocalnews.org/event/spring-semester-starts/
CATEGORIES:General School Events
ATTACH;FMTTYPE=image/jpeg:https://lancerlocalnews.org/wp-content/uploads/2021/12/qtq80-DrVsrI.jpeg
END:VEVENT
BEGIN:VEVENT
DTSTART;VALUE=DATE:20220126
DTEND;VALUE=DATE:20220127
DTSTAMP:20260419T183141
CREATED:20211206T133142Z
LAST-MODIFIED:20220128T163155Z
UID:2161-1643155200-1643241599@lancerlocalnews.org
SUMMARY:Last Day of Fall Semester
DESCRIPTION:
URL:https://lancerlocalnews.org/event/last-day-of-fall-semester/
CATEGORIES:General School Events
ATTACH;FMTTYPE=image/png:https://lancerlocalnews.org/wp-content/uploads/2021/12/checkmark.png
END:VEVENT
BEGIN:VEVENT
DTSTART;VALUE=DATE:20220117
DTEND;VALUE=DATE:20220118
DTSTAMP:20260419T183141
CREATED:20211206T133612Z
LAST-MODIFIED:20220111T132821Z
UID:2168-1642377600-1642463999@lancerlocalnews.org
SUMMARY:No School - MLK
DESCRIPTION:
URL:https://lancerlocalnews.org/event/no-school-mlk/
CATEGORIES:General School Events
END:VEVENT
BEGIN:VEVENT
DTSTART;VALUE=DATE:20220105
DTEND;VALUE=DATE:20220106
DTSTAMP:20260419T183141
CREATED:20211202T174531Z
LAST-MODIFIED:20211202T174531Z
UID:2099-1641340800-1641427199@lancerlocalnews.org
SUMMARY:Two-Hour Late-In
DESCRIPTION:You get to sleep in while teachers have professional development!
URL:https://lancerlocalnews.org/event/two-hour-late-in/
CATEGORIES:General School Events
ATTACH;FMTTYPE=image/jpeg:https://lancerlocalnews.org/wp-content/uploads/2021/11/clock.jpg
END:VEVENT
BEGIN:VEVENT
DTSTART;TZID=America/New_York:20211207T180000
DTEND;TZID=America/New_York:20211207T180000
DTSTAMP:20260419T183141
CREATED:20211130T144952Z
LAST-MODIFIED:20211130T144952Z
UID:1970-1638900000-1638900000@lancerlocalnews.org
SUMMARY:22-23 College Credit Plus Mandatory Meeting
DESCRIPTION:Are you interested in taking college classes for next school year (22-23)?  Attend the College Credit Plus Meeting on December 7th at 6:00PM in the high school library. \nThis is a mandatory meeting for all students and parents that are interested. \nIn order to take classes for next school year\, this meeting is required. Please see Mrs. Buchman if you have any questions.
URL:https://lancerlocalnews.org/event/22-23-college-credit-plus-mandatory-meeting/
LOCATION:Federal Hocking HS – Library\, 8461 St Rt 144\, Stewart\, 45778\, United States
CATEGORIES:General School Events
ORGANIZER;CN="Amy Buchman":MAILTO:abuchman@fhlancers.com
END:VEVENT
BEGIN:VEVENT
DTSTART;TZID=America/New_York:20211130T080000
DTEND;TZID=America/New_York:20211130T143000
DTSTAMP:20260419T183141
CREATED:20211117T160651Z
LAST-MODIFIED:20211119T175908Z
UID:1817-1638259200-1638282600@lancerlocalnews.org
SUMMARY:Red Cross Blood Drive
DESCRIPTION:
URL:https://lancerlocalnews.org/event/red-cross-blood-drive/
LOCATION:Federal Hocking MS – Gymnasium\, 8461 St Rt 144\, OH\, 45778\, United States
CATEGORIES:General School Events
ATTACH;FMTTYPE=image/jpeg:https://lancerlocalnews.org/wp-content/uploads/2021/11/IMG_8978-scaled.jpg
ORGANIZER;CN="Student Trustees":MAILTO:etabler@fhlancers.com
END:VEVENT
BEGIN:VEVENT
DTSTART;VALUE=DATE:20211102
DTEND;VALUE=DATE:20211103
DTSTAMP:20260419T183141
CREATED:20211021T154359Z
LAST-MODIFIED:20211021T154725Z
UID:1298-1635811200-1635897599@lancerlocalnews.org
SUMMARY:NO SCHOOL - Staff Professional Development
DESCRIPTION:
URL:https://lancerlocalnews.org/event/no-school-staff-professional-development/
CATEGORIES:General School Events
END:VEVENT
BEGIN:VEVENT
DTSTART;TZID=America/New_York:20211029T080000
DTEND;TZID=America/New_York:20211029T080000
DTSTAMP:20260419T183141
CREATED:20211013T192505Z
LAST-MODIFIED:20211015T185025Z
UID:1206-1635494400-1635494400@lancerlocalnews.org
SUMMARY:Picture Retakes
DESCRIPTION:Don’t forget that this is picture retake day!
URL:https://lancerlocalnews.org/event/picture-retakes/
LOCATION:Federal Hocking HS/MS\, 8461 St Rt 144\, Stewart\, OH\, 45778\, United States
CATEGORIES:General School Events
END:VEVENT
BEGIN:VEVENT
DTSTART;VALUE=DATE:20211026
DTEND;VALUE=DATE:20211027
DTSTAMP:20260419T183141
CREATED:20211013T192610Z
LAST-MODIFIED:20211013T192610Z
UID:1209-1635206400-1635292799@lancerlocalnews.org
SUMMARY:End of the 1st Nine Weeks
DESCRIPTION:
URL:https://lancerlocalnews.org/event/end-of-the-1st-nine-weeks/
LOCATION:Federal Hocking HS/MS\, 8461 St Rt 144\, Stewart\, OH\, 45778\, United States
CATEGORIES:General School Events
END:VEVENT
END:VCALENDAR