BEGIN:VCALENDAR
VERSION:2.0
PRODID:-//Lancer Local News - ECPv6.15.20//NONSGML v1.0//EN
CALSCALE:GREGORIAN
METHOD:PUBLISH
X-WR-CALNAME:Lancer Local News
X-ORIGINAL-URL:https://lancerlocalnews.org
X-WR-CALDESC:Events for Lancer Local News
REFRESH-INTERVAL;VALUE=DURATION:PT1H
X-Robots-Tag:noindex
X-PUBLISHED-TTL:PT1H
BEGIN:VTIMEZONE
TZID:America/New_York
BEGIN:DAYLIGHT
TZOFFSETFROM:-0500
TZOFFSETTO:-0400
TZNAME:EDT
DTSTART:20210314T070000
END:DAYLIGHT
BEGIN:STANDARD
TZOFFSETFROM:-0400
TZOFFSETTO:-0500
TZNAME:EST
DTSTART:20211107T060000
END:STANDARD
BEGIN:DAYLIGHT
TZOFFSETFROM:-0500
TZOFFSETTO:-0400
TZNAME:EDT
DTSTART:20220313T070000
END:DAYLIGHT
BEGIN:STANDARD
TZOFFSETFROM:-0400
TZOFFSETTO:-0500
TZNAME:EST
DTSTART:20221106T060000
END:STANDARD
BEGIN:DAYLIGHT
TZOFFSETFROM:-0500
TZOFFSETTO:-0400
TZNAME:EDT
DTSTART:20230312T070000
END:DAYLIGHT
BEGIN:STANDARD
TZOFFSETFROM:-0400
TZOFFSETTO:-0500
TZNAME:EST
DTSTART:20231105T060000
END:STANDARD
BEGIN:DAYLIGHT
TZOFFSETFROM:-0500
TZOFFSETTO:-0400
TZNAME:EDT
DTSTART:20240310T070000
END:DAYLIGHT
BEGIN:STANDARD
TZOFFSETFROM:-0400
TZOFFSETTO:-0500
TZNAME:EST
DTSTART:20241103T060000
END:STANDARD
END:VTIMEZONE
BEGIN:VEVENT
DTSTART;VALUE=DATE:20231013
DTEND;VALUE=DATE:20231014
DTSTAMP:20260419T132759
CREATED:20231009T170124Z
LAST-MODIFIED:20231009T170124Z
UID:3707-1697155200-1697241599@lancerlocalnews.org
SUMMARY:End of the First 9 Weeks
DESCRIPTION:
URL:https://lancerlocalnews.org/event/end-of-the-first-9-weeks/
CATEGORIES:General School Events
ATTACH;FMTTYPE=image/jpeg:https://lancerlocalnews.org/wp-content/uploads/2022/03/grades-scaled.jpg
END:VEVENT
BEGIN:VEVENT
DTSTART;TZID=America/New_York:20231011T153000
DTEND;TZID=America/New_York:20231011T184500
DTSTAMP:20260419T132759
CREATED:20231009T165724Z
LAST-MODIFIED:20231009T165724Z
UID:3703-1697038200-1697049900@lancerlocalnews.org
SUMMARY:Parent-Teacher Conferences
DESCRIPTION:
URL:https://lancerlocalnews.org/event/parent-teacher-conferences-5/
LOCATION:Federal Hocking HS/MS\, 8461 St Rt 144\, Stewart\, OH\, 45778\, United States
CATEGORIES:General School Events
ATTACH;FMTTYPE=image/jpeg:https://lancerlocalnews.org/wp-content/uploads/2022/03/p-tconf.jpeg
END:VEVENT
BEGIN:VEVENT
DTSTART;VALUE=DATE:20230525
DTEND;VALUE=DATE:20230526
DTSTAMP:20260419T132759
CREATED:20230508T184708Z
LAST-MODIFIED:20230508T184708Z
UID:3591-1684972800-1685059199@lancerlocalnews.org
SUMMARY:HS Field Day
DESCRIPTION:
URL:https://lancerlocalnews.org/event/hs-field-day/
CATEGORIES:General School Events
END:VEVENT
BEGIN:VEVENT
DTSTART;TZID=America/New_York:20230522T081500
DTEND;TZID=America/New_York:20230522T090000
DTSTAMP:20260419T132759
CREATED:20230508T181129Z
LAST-MODIFIED:20230508T181129Z
UID:3588-1684743300-1684746000@lancerlocalnews.org
SUMMARY:HS Awards Ceremony
DESCRIPTION:
URL:https://lancerlocalnews.org/event/hs-awards-ceremony/
CATEGORIES:General School Events
ATTACH;FMTTYPE=image/jpeg:https://lancerlocalnews.org/wp-content/uploads/2023/05/qtq80-ps1dx8.jpeg
END:VEVENT
BEGIN:VEVENT
DTSTART;VALUE=DATE:20230519
DTEND;VALUE=DATE:20230520
DTSTAMP:20260419T132759
CREATED:20230508T180213Z
LAST-MODIFIED:20230508T180213Z
UID:3585-1684454400-1684540799@lancerlocalnews.org
SUMMARY:Community Service Day - HS
DESCRIPTION:
URL:https://lancerlocalnews.org/event/community-service-day-hs/
CATEGORIES:General School Events
ATTACH;FMTTYPE=image/jpeg:https://lancerlocalnews.org/wp-content/uploads/2023/05/hands-scaled.jpg
END:VEVENT
BEGIN:VEVENT
DTSTART;VALUE=DATE:20230512
DTEND;VALUE=DATE:20230513
DTSTAMP:20260419T132759
CREATED:20230508T175009Z
LAST-MODIFIED:20230508T175009Z
UID:3576-1683849600-1683935999@lancerlocalnews.org
SUMMARY:Spanish 3 Field Trip
DESCRIPTION:Eating at a Mexican Restaurant!
URL:https://lancerlocalnews.org/event/spanish-3-field-trip/
CATEGORIES:General School Events
ATTACH;FMTTYPE=image/jpeg:https://lancerlocalnews.org/wp-content/uploads/2023/05/qtq80-WPz2PM.jpeg
END:VEVENT
BEGIN:VEVENT
DTSTART;VALUE=DATE:20230512
DTEND;VALUE=DATE:20230513
DTSTAMP:20260419T132759
CREATED:20230508T174721Z
LAST-MODIFIED:20230508T174721Z
UID:3573-1683849600-1683935999@lancerlocalnews.org
SUMMARY:Sophomore Bowling Trip
DESCRIPTION:
URL:https://lancerlocalnews.org/event/sophomore-bowling-trip/
CATEGORIES:General School Events
ATTACH;FMTTYPE=image/jpeg:https://lancerlocalnews.org/wp-content/uploads/2023/05/qtq80-XcxD5N.jpeg
END:VEVENT
BEGIN:VEVENT
DTSTART;VALUE=DATE:20230510
DTEND;VALUE=DATE:20230511
DTSTAMP:20260419T132759
CREATED:20230508T172418Z
LAST-MODIFIED:20230508T172418Z
UID:3561-1683676800-1683763199@lancerlocalnews.org
SUMMARY:Vision Screenings
DESCRIPTION:These will be going on first thing in the morning. Through this program\, students can receive eyewear free of charge. Forms to opt out of this screening are available in the office.
URL:https://lancerlocalnews.org/event/vision-screenings/
CATEGORIES:General School Events
ATTACH;FMTTYPE=image/jpeg:https://lancerlocalnews.org/wp-content/uploads/2023/05/qtq80-o412zL.jpeg
END:VEVENT
BEGIN:VEVENT
DTSTART;VALUE=DATE:20230421
DTEND;VALUE=DATE:20230422
DTSTAMP:20260419T132759
CREATED:20230411T170441Z
LAST-MODIFIED:20230411T170544Z
UID:3404-1682035200-1682121599@lancerlocalnews.org
SUMMARY:Mid-Terms Due
DESCRIPTION:
URL:https://lancerlocalnews.org/event/mid-terms-due/
CATEGORIES:General School Events
ATTACH;FMTTYPE=image/jpeg:https://lancerlocalnews.org/wp-content/uploads/2022/03/grades-scaled.jpg
END:VEVENT
BEGIN:VEVENT
DTSTART;VALUE=DATE:20230403
DTEND;VALUE=DATE:20230411
DTSTAMP:20260419T132759
CREATED:20230222T152302Z
LAST-MODIFIED:20230222T152302Z
UID:3203-1680480000-1681171199@lancerlocalnews.org
SUMMARY:Spring Break
DESCRIPTION:
URL:https://lancerlocalnews.org/event/spring-break/
CATEGORIES:General School Events
ATTACH;FMTTYPE=image/png:https://lancerlocalnews.org/wp-content/uploads/2023/02/springbreak.png
END:VEVENT
BEGIN:VEVENT
DTSTART;TZID=America/New_York:20230309T163000
DTEND;TZID=America/New_York:20230309T194500
DTSTAMP:20260419T132759
CREATED:20230222T152021Z
LAST-MODIFIED:20230222T152021Z
UID:3201-1678379400-1678391100@lancerlocalnews.org
SUMMARY:Parent-Teacher Conferences
DESCRIPTION:
URL:https://lancerlocalnews.org/event/parent-teacher-conferences-4/
CATEGORIES:General School Events
ATTACH;FMTTYPE=image/jpeg:https://lancerlocalnews.org/wp-content/uploads/2022/03/p-tconf.jpeg
END:VEVENT
BEGIN:VEVENT
DTSTART;TZID=America/New_York:20230301T163000
DTEND;TZID=America/New_York:20230301T194500
DTSTAMP:20260419T132759
CREATED:20230222T151911Z
LAST-MODIFIED:20230222T151911Z
UID:3199-1677688200-1677699900@lancerlocalnews.org
SUMMARY:Parent-Teacher Conferences
DESCRIPTION:
URL:https://lancerlocalnews.org/event/parent-teacher-conferences-3/
CATEGORIES:General School Events
ATTACH;FMTTYPE=image/jpeg:https://lancerlocalnews.org/wp-content/uploads/2022/03/p-tconf.jpeg
END:VEVENT
BEGIN:VEVENT
DTSTART;VALUE=DATE:20230228
DTEND;VALUE=DATE:20230301
DTSTAMP:20260419T132759
CREATED:20230222T153028Z
LAST-MODIFIED:20230222T153028Z
UID:3217-1677542400-1677628799@lancerlocalnews.org
SUMMARY:ACT (Juniors)
DESCRIPTION:
URL:https://lancerlocalnews.org/event/act-juniors/
CATEGORIES:General School Events
ATTACH;FMTTYPE=image/png:https://lancerlocalnews.org/wp-content/uploads/2023/02/logo-act-blue-300.png
END:VEVENT
BEGIN:VEVENT
DTSTART;TZID=America/New_York:20230224T100000
DTEND;TZID=America/New_York:20230224T110000
DTSTAMP:20260419T132759
CREATED:20230222T152948Z
LAST-MODIFIED:20230222T152948Z
UID:3214-1677232800-1677236400@lancerlocalnews.org
SUMMARY:ACT Prep (Juniors)
DESCRIPTION:
URL:https://lancerlocalnews.org/event/act-prep-juniors/
CATEGORIES:General School Events
ATTACH;FMTTYPE=image/png:https://lancerlocalnews.org/wp-content/uploads/2023/02/logo-act-blue-300.png
END:VEVENT
BEGIN:VEVENT
DTSTART;VALUE=DATE:20221222
DTEND;VALUE=DATE:20230105
DTSTAMP:20260419T132759
CREATED:20221121T202713Z
LAST-MODIFIED:20221121T202713Z
UID:3103-1671667200-1672876799@lancerlocalnews.org
SUMMARY:Winter Break
DESCRIPTION:
URL:https://lancerlocalnews.org/event/winter-break-2/
CATEGORIES:General School Events
ATTACH;FMTTYPE=image/jpeg:https://lancerlocalnews.org/wp-content/uploads/2022/11/qtq80-Cn2Lnk.jpeg
END:VEVENT
BEGIN:VEVENT
DTSTART;TZID=America/New_York:20221115T080000
DTEND;TZID=America/New_York:20221115T100000
DTSTAMP:20260419T132759
CREATED:20221014T130845Z
LAST-MODIFIED:20221110T152633Z
UID:2999-1668499200-1668506400@lancerlocalnews.org
SUMMARY:Picture Retakes
DESCRIPTION:
URL:https://lancerlocalnews.org/event/picture-retakes-2/
LOCATION:Federal Hocking HS/MS\, 8461 St Rt 144\, Stewart\, OH\, 45778\, United States
CATEGORIES:General School Events
ATTACH;FMTTYPE=image/jpeg:https://lancerlocalnews.org/wp-content/uploads/2022/10/qtq80-KoTSkT.jpeg
END:VEVENT
BEGIN:VEVENT
DTSTART;VALUE=DATE:20221111
DTEND;VALUE=DATE:20221112
DTSTAMP:20260419T132759
CREATED:20220601T160214Z
LAST-MODIFIED:20220601T160214Z
UID:2878-1668124800-1668211199@lancerlocalnews.org
SUMMARY:No School - Veteran's Day
DESCRIPTION:
URL:https://lancerlocalnews.org/event/no-school-veterans-day/
CATEGORIES:General School Events
END:VEVENT
BEGIN:VEVENT
DTSTART;VALUE=DATE:20221108
DTEND;VALUE=DATE:20221109
DTSTAMP:20260419T132759
CREATED:20220601T160127Z
LAST-MODIFIED:20220601T160127Z
UID:2876-1667865600-1667951999@lancerlocalnews.org
SUMMARY:No School - Staff Professional Development
DESCRIPTION:
URL:https://lancerlocalnews.org/event/no-school-staff-professional-development-3/
CATEGORIES:General School Events
END:VEVENT
BEGIN:VEVENT
DTSTART;VALUE=DATE:20221021
DTEND;VALUE=DATE:20221022
DTSTAMP:20260419T132759
CREATED:20221014T130013Z
LAST-MODIFIED:20221014T130013Z
UID:2991-1666310400-1666396799@lancerlocalnews.org
SUMMARY:End of 1st 9 Weeks Grading
DESCRIPTION:
URL:https://lancerlocalnews.org/event/end-of-1st-9-weeks-grading/
CATEGORIES:General School Events
ATTACH;FMTTYPE=image/jpeg:https://lancerlocalnews.org/wp-content/uploads/2022/03/grades-scaled.jpg
END:VEVENT
BEGIN:VEVENT
DTSTART;TZID=America/New_York:20221015T200000
DTEND;TZID=America/New_York:20221015T223000
DTSTAMP:20260419T132759
CREATED:20221006T144045Z
LAST-MODIFIED:20221006T144100Z
UID:2953-1665864000-1665873000@lancerlocalnews.org
SUMMARY:Homecoming Dance
DESCRIPTION:Tickets for homecoming are available for pre-sale: \n$10 per ticket\, $15 at the door \nIf interested\, please see a trustee or senior class officer during lunch.
URL:https://lancerlocalnews.org/event/homecoming-dance/
CATEGORIES:General School Events
ATTACH;FMTTYPE=image/jpeg:https://lancerlocalnews.org/wp-content/uploads/2022/10/homecoming_theme.jpg
ORGANIZER;CN="Levi Thompson":MAILTO:lthompson@fhlancers.com
END:VEVENT
BEGIN:VEVENT
DTSTART;TZID=America/New_York:20221008T140000
DTEND;TZID=America/New_York:20221008T210000
DTSTAMP:20260419T132759
CREATED:20221006T143143Z
LAST-MODIFIED:20221006T143143Z
UID:2940-1665237600-1665262800@lancerlocalnews.org
SUMMARY:Homecoming Event Day
DESCRIPTION:Homecoming festivities start with flag football contests\, a parade\, and a bonfire. Sign-up sheets for flag football players are in the office.  Yellow for Freshmen/Sophomores and pink for Juniors/Seniors.  All classes\, teams\, groups\, and clubs are welcome to create parade hoops like we’ve done in the past and march in the parade.  
URL:https://lancerlocalnews.org/event/homecoming-event-day/
LOCATION:Federal Hocking HS/MS\, 8461 St Rt 144\, Stewart\, OH\, 45778\, United States
CATEGORIES:General School Events
ATTACH;FMTTYPE=image/jpeg:https://lancerlocalnews.org/wp-content/uploads/2022/10/homecoming_theme.jpg
ORGANIZER;CN="Jake Amlin":MAILTO:jamlin@fhlancers.com
END:VEVENT
BEGIN:VEVENT
DTSTART;VALUE=DATE:20221005
DTEND;VALUE=DATE:20221006
DTSTAMP:20260419T132759
CREATED:20220601T160054Z
LAST-MODIFIED:20220601T160054Z
UID:2874-1664928000-1665014399@lancerlocalnews.org
SUMMARY:No School - Staff Professional Development
DESCRIPTION:
URL:https://lancerlocalnews.org/event/no-school-staff-professional-development-2/
CATEGORIES:General School Events
END:VEVENT
BEGIN:VEVENT
DTSTART;VALUE=DATE:20220823
DTEND;VALUE=DATE:20220824
DTSTAMP:20260419T132759
CREATED:20220601T155924Z
LAST-MODIFIED:20220601T160412Z
UID:2870-1661212800-1661299199@lancerlocalnews.org
SUMMARY:Student First Day
DESCRIPTION:
URL:https://lancerlocalnews.org/event/student-first-day/
CATEGORIES:General School Events
END:VEVENT
BEGIN:VEVENT
DTSTART;TZID=America/New_York:20220822T170000
DTEND;TZID=America/New_York:20220822T190000
DTSTAMP:20260419T132759
CREATED:20220816T183641Z
LAST-MODIFIED:20220816T183641Z
UID:2899-1661187600-1661194800@lancerlocalnews.org
SUMMARY:Amesville/Coolville Open House
DESCRIPTION:
URL:https://lancerlocalnews.org/event/amesville-coolville-open-house/
CATEGORIES:General School Events
END:VEVENT
BEGIN:VEVENT
DTSTART;TZID=America/New_York:20220822T080000
DTEND;TZID=America/New_York:20220822T150000
DTSTAMP:20260419T132759
CREATED:20220601T155851Z
LAST-MODIFIED:20220601T155851Z
UID:2868-1661155200-1661180400@lancerlocalnews.org
SUMMARY:Staff Professional Development
DESCRIPTION:
URL:https://lancerlocalnews.org/event/staff-professional-development-2/
CATEGORIES:General School Events
END:VEVENT
BEGIN:VEVENT
DTSTART;TZID=America/New_York:20220818T170000
DTEND;TZID=America/New_York:20220818T190000
DTSTAMP:20260419T132759
CREATED:20220816T183554Z
LAST-MODIFIED:20220816T183554Z
UID:2897-1660842000-1660849200@lancerlocalnews.org
SUMMARY:MS/HS Open House
DESCRIPTION:
URL:https://lancerlocalnews.org/event/ms-hs-open-house/
LOCATION:Federal Hocking HS/MS\, 8461 St Rt 144\, Stewart\, OH\, 45778\, United States
CATEGORIES:General School Events
END:VEVENT
BEGIN:VEVENT
DTSTART;TZID=America/New_York:20220818T080000
DTEND;TZID=America/New_York:20220819T150000
DTSTAMP:20260419T132759
CREATED:20220601T155824Z
LAST-MODIFIED:20220601T155824Z
UID:2866-1660809600-1660921200@lancerlocalnews.org
SUMMARY:Staff Professional Development
DESCRIPTION:
URL:https://lancerlocalnews.org/event/staff-professional-development/
CATEGORIES:General School Events
END:VEVENT
BEGIN:VEVENT
DTSTART;TZID=America/New_York:20220817T080000
DTEND;TZID=America/New_York:20220817T170000
DTSTAMP:20260419T132759
CREATED:20220601T155725Z
LAST-MODIFIED:20220601T155725Z
UID:2864-1660723200-1660755600@lancerlocalnews.org
SUMMARY:Staff Convocation
DESCRIPTION:
URL:https://lancerlocalnews.org/event/staff-convocation/
LOCATION:Federal Hocking HS/MS\, 8461 St Rt 144\, Stewart\, OH\, 45778\, United States
CATEGORIES:General School Events
END:VEVENT
BEGIN:VEVENT
DTSTART;TZID=America/New_York:20220816T080000
DTEND;TZID=America/New_York:20220816T150000
DTSTAMP:20260419T132759
CREATED:20220816T155552Z
LAST-MODIFIED:20221004T181416Z
UID:2862-1660636800-1660662000@lancerlocalnews.org
SUMMARY:New Staff Orientation
DESCRIPTION:
URL:https://lancerlocalnews.org/event/new-staff-orientation/
CATEGORIES:General School Events
END:VEVENT
BEGIN:VEVENT
DTSTART;VALUE=DATE:20220520
DTEND;VALUE=DATE:20220521
DTSTAMP:20260419T132759
CREATED:20220510T150104Z
LAST-MODIFIED:20220510T150104Z
UID:2807-1653004800-1653091199@lancerlocalnews.org
SUMMARY:Kings Island Trip for Seniors & Math Club
DESCRIPTION:
URL:https://lancerlocalnews.org/event/kings-island-trip-for-seniors-math-club/
CATEGORIES:General School Events
ATTACH;FMTTYPE=image/jpeg:https://lancerlocalnews.org/wp-content/uploads/2022/05/kingsisland.jpg
END:VEVENT
END:VCALENDAR