BEGIN:VCALENDAR
VERSION:2.0
PRODID:-//Lancer Local News - ECPv6.15.20//NONSGML v1.0//EN
CALSCALE:GREGORIAN
METHOD:PUBLISH
X-ORIGINAL-URL:https://lancerlocalnews.org
X-WR-CALDESC:Events for Lancer Local News
REFRESH-INTERVAL;VALUE=DURATION:PT1H
X-Robots-Tag:noindex
X-PUBLISHED-TTL:PT1H
BEGIN:VTIMEZONE
TZID:America/New_York
BEGIN:DAYLIGHT
TZOFFSETFROM:-0500
TZOFFSETTO:-0400
TZNAME:EDT
DTSTART:20200308T070000
END:DAYLIGHT
BEGIN:STANDARD
TZOFFSETFROM:-0400
TZOFFSETTO:-0500
TZNAME:EST
DTSTART:20201101T060000
END:STANDARD
BEGIN:DAYLIGHT
TZOFFSETFROM:-0500
TZOFFSETTO:-0400
TZNAME:EDT
DTSTART:20210314T070000
END:DAYLIGHT
BEGIN:STANDARD
TZOFFSETFROM:-0400
TZOFFSETTO:-0500
TZNAME:EST
DTSTART:20211107T060000
END:STANDARD
BEGIN:DAYLIGHT
TZOFFSETFROM:-0500
TZOFFSETTO:-0400
TZNAME:EDT
DTSTART:20220313T070000
END:DAYLIGHT
BEGIN:STANDARD
TZOFFSETFROM:-0400
TZOFFSETTO:-0500
TZNAME:EST
DTSTART:20221106T060000
END:STANDARD
END:VTIMEZONE
BEGIN:VEVENT
DTSTART;TZID=America/New_York:20211205T150000
DTEND;TZID=America/New_York:20211205T170000
DTSTAMP:20260421T042147
CREATED:20211123T155054Z
LAST-MODIFIED:20211123T155054Z
UID:1963-1638716400-1638723600@lancerlocalnews.org
SUMMARY:FFA Fall Sale Pickup for FFA Members
DESCRIPTION:
URL:https://lancerlocalnews.org/event/ffa-fall-sale-pickup-for-ffa-members/
LOCATION:Federal Hocking HS – Ag Room\, 8461 St Rt 144\, Stewart\, OH\, 45778\, United States
CATEGORIES:FFA Events
ATTACH;FMTTYPE=image/png:https://lancerlocalnews.org/wp-content/uploads/2021/11/Honey-Bee-Sweet-Jar-Logo1.png
END:VEVENT
BEGIN:VEVENT
DTSTART;TZID=America/New_York:20211020T144500
DTEND;TZID=America/New_York:20211020T164500
DTSTAMP:20260421T042147
CREATED:20211012T203626Z
LAST-MODIFIED:20211012T195548Z
UID:1126-1634741100-1634748300@lancerlocalnews.org
SUMMARY:FFA 5k Walk/Run
DESCRIPTION:
URL:https://lancerlocalnews.org/event/ffa-5k-walk-run/
LOCATION:Federal Hocking HS – Ag Room\, 8461 St Rt 144\, Stewart\, OH\, 45778\, United States
CATEGORIES:FFA Events
ATTACH;FMTTYPE=image/jpeg:https://lancerlocalnews.org/wp-content/uploads/2021/10/1.jpg
END:VEVENT
END:VCALENDAR