BEGIN:VCALENDAR
VERSION:2.0
PRODID:-//Lancer Local News - ECPv6.15.20//NONSGML v1.0//EN
CALSCALE:GREGORIAN
METHOD:PUBLISH
X-WR-CALNAME:Lancer Local News
X-ORIGINAL-URL:https://lancerlocalnews.org
X-WR-CALDESC:Events for Lancer Local News
REFRESH-INTERVAL;VALUE=DURATION:PT1H
X-Robots-Tag:noindex
X-PUBLISHED-TTL:PT1H
BEGIN:VTIMEZONE
TZID:America/New_York
BEGIN:DAYLIGHT
TZOFFSETFROM:-0500
TZOFFSETTO:-0400
TZNAME:EDT
DTSTART:20200308T070000
END:DAYLIGHT
BEGIN:STANDARD
TZOFFSETFROM:-0400
TZOFFSETTO:-0500
TZNAME:EST
DTSTART:20201101T060000
END:STANDARD
BEGIN:DAYLIGHT
TZOFFSETFROM:-0500
TZOFFSETTO:-0400
TZNAME:EDT
DTSTART:20210314T070000
END:DAYLIGHT
BEGIN:STANDARD
TZOFFSETFROM:-0400
TZOFFSETTO:-0500
TZNAME:EST
DTSTART:20211107T060000
END:STANDARD
BEGIN:DAYLIGHT
TZOFFSETFROM:-0500
TZOFFSETTO:-0400
TZNAME:EDT
DTSTART:20220313T070000
END:DAYLIGHT
BEGIN:STANDARD
TZOFFSETFROM:-0400
TZOFFSETTO:-0500
TZNAME:EST
DTSTART:20221106T060000
END:STANDARD
BEGIN:DAYLIGHT
TZOFFSETFROM:-0500
TZOFFSETTO:-0400
TZNAME:EDT
DTSTART:20230312T070000
END:DAYLIGHT
BEGIN:STANDARD
TZOFFSETFROM:-0400
TZOFFSETTO:-0500
TZNAME:EST
DTSTART:20231105T060000
END:STANDARD
END:VTIMEZONE
BEGIN:VEVENT
DTSTART;TZID=America/New_York:20221209T170000
DTEND;TZID=America/New_York:20221209T180000
DTSTAMP:20260419T115444
CREATED:20221206T174830Z
LAST-MODIFIED:20221206T174830Z
UID:3126-1670605200-1670608800@lancerlocalnews.org
SUMMARY:Chili Supper
DESCRIPTION:There will be a chili supper prior to A Christmas Carol starting at 5pm. Chili and cornbread for a donation to the band. Come have dinner before the play\, and support the band AND the drama club! 🙂
URL:https://lancerlocalnews.org/event/chili-supper/
LOCATION:Federal Hocking MS Cafeteria\, 8461 St Rt 144\, Stewart\, OH\, 45778\, United States
CATEGORIES:Band Events,Community Events,Drama/Theatre
ATTACH;FMTTYPE=image/jpeg:https://lancerlocalnews.org/wp-content/uploads/2022/12/chili-with-cornbread1.jpg
ORGANIZER;CN="Julia Brewer":MAILTO:jbrewer@fhlancers.com
END:VEVENT
BEGIN:VEVENT
DTSTART;TZID=America/New_York:20211202T183000
DTEND;TZID=America/New_York:20211202T193000
DTSTAMP:20260419T115444
CREATED:20211130T174528Z
LAST-MODIFIED:20211130T174725Z
UID:1992-1638469800-1638473400@lancerlocalnews.org
SUMMARY:Christmas Kickoff in Stewart’s Park!
DESCRIPTION:Bring your little siblings to Stewart Park to kickoff the  Christmas season with gingerbread house building\, Christmas carols\, hot cocoa\, and a special visit from Santa.  \nFor citizenship points join April Norton being a helpful reindeer for Tracy Clem. Please let April Norton know if you can help. Volunteers should arrive at the Stewart park at 5:45
URL:https://lancerlocalnews.org/event/christmas-kickoff-in-stewarts-park/
LOCATION:Stewart Park\, Stewart\, 45778\, United States
CATEGORIES:Community Events
ATTACH;FMTTYPE=image/jpeg:https://lancerlocalnews.org/wp-content/uploads/2021/11/christmas-g9bae6e788_1920.jpg
END:VEVENT
END:VCALENDAR