BEGIN:VCALENDAR
VERSION:2.0
PRODID:-//Lancer Local News - ECPv6.15.20//NONSGML v1.0//EN
CALSCALE:GREGORIAN
METHOD:PUBLISH
X-ORIGINAL-URL:https://lancerlocalnews.org
X-WR-CALDESC:Events for Lancer Local News
REFRESH-INTERVAL;VALUE=DURATION:PT1H
X-Robots-Tag:noindex
X-PUBLISHED-TTL:PT1H
BEGIN:VTIMEZONE
TZID:America/New_York
BEGIN:DAYLIGHT
TZOFFSETFROM:-0500
TZOFFSETTO:-0400
TZNAME:EDT
DTSTART:20220313T070000
END:DAYLIGHT
BEGIN:STANDARD
TZOFFSETFROM:-0400
TZOFFSETTO:-0500
TZNAME:EST
DTSTART:20221106T060000
END:STANDARD
BEGIN:DAYLIGHT
TZOFFSETFROM:-0500
TZOFFSETTO:-0400
TZNAME:EDT
DTSTART:20230312T070000
END:DAYLIGHT
BEGIN:STANDARD
TZOFFSETFROM:-0400
TZOFFSETTO:-0500
TZNAME:EST
DTSTART:20231105T060000
END:STANDARD
BEGIN:DAYLIGHT
TZOFFSETFROM:-0500
TZOFFSETTO:-0400
TZNAME:EDT
DTSTART:20240310T070000
END:DAYLIGHT
BEGIN:STANDARD
TZOFFSETFROM:-0400
TZOFFSETTO:-0500
TZNAME:EST
DTSTART:20241103T060000
END:STANDARD
BEGIN:DAYLIGHT
TZOFFSETFROM:-0500
TZOFFSETTO:-0400
TZNAME:EDT
DTSTART:20250309T070000
END:DAYLIGHT
BEGIN:STANDARD
TZOFFSETFROM:-0400
TZOFFSETTO:-0500
TZNAME:EST
DTSTART:20251102T060000
END:STANDARD
END:VTIMEZONE
BEGIN:VEVENT
DTSTART;VALUE=DATE:20240510
DTEND;VALUE=DATE:20240515
DTSTAMP:20260419T100231
CREATED:20240327T140547Z
LAST-MODIFIED:20240503T173118Z
UID:4079-1715299200-1715731199@lancerlocalnews.org
SUMMARY:Business Professionals of American NLC
DESCRIPTION:
URL:https://lancerlocalnews.org/event/business-professionals-of-american-nlc/
LOCATION:Chicago Hilton\, Chicago\, Illinois
CATEGORIES:BPA Events
ATTACH;FMTTYPE=image/jpeg:https://lancerlocalnews.org/wp-content/uploads/2024/02/OH-4_Federal-Hocking.jpg
ORGANIZER;CN="Sonja Coble":MAILTO:scoble@fhlancers.com
END:VEVENT
BEGIN:VEVENT
DTSTART;TZID=America/New_York:20240306T150000
DTEND;TZID=America/New_York:20240308T170000
DTSTAMP:20260419T100231
CREATED:20240216T171914Z
LAST-MODIFIED:20240216T171914Z
UID:3970-1709737200-1709917200@lancerlocalnews.org
SUMMARY:BPA Ohio State Leadership Conference
DESCRIPTION:
URL:https://lancerlocalnews.org/event/bpa-ohio-state-leadership-conference/
LOCATION:Columbus\, Columbus\, OH\, United States
CATEGORIES:BPA Events
ATTACH;FMTTYPE=image/jpeg:https://lancerlocalnews.org/wp-content/uploads/2024/02/OH-4_Federal-Hocking.jpg
ORGANIZER;CN="Sonja Coble":MAILTO:scoble@fhlancers.com
END:VEVENT
BEGIN:VEVENT
DTSTART;VALUE=DATE:20230426
DTEND;VALUE=DATE:20230501
DTSTAMP:20260419T100231
CREATED:20230328T180141Z
LAST-MODIFIED:20230328T180141Z
UID:3383-1682467200-1682899199@lancerlocalnews.org
SUMMARY:Business Professionals of America National Leadership Conference
DESCRIPTION:
URL:https://lancerlocalnews.org/event/business-professionals-of-america-national-leadership-conference/
LOCATION:Illinois
CATEGORIES:BPA Events
ATTACH;FMTTYPE=image/jpeg:https://lancerlocalnews.org/wp-content/uploads/2023/02/OH-4_Federal-Hocking.jpg
END:VEVENT
BEGIN:VEVENT
DTSTART;TZID=America/New_York:20230420T093000
DTEND;TZID=America/New_York:20230420T143000
DTSTAMP:20260419T100231
CREATED:20230411T171250Z
LAST-MODIFIED:20230411T171250Z
UID:3414-1681983000-1682001000@lancerlocalnews.org
SUMMARY:BPA Region 2 Spring Leadership Conference
DESCRIPTION:
URL:https://lancerlocalnews.org/event/bpa-region-2-spring-leadership-conference/
LOCATION:Illinois
CATEGORIES:BPA Events
ATTACH;FMTTYPE=image/jpeg:https://lancerlocalnews.org/wp-content/uploads/2023/02/OH-4_Federal-Hocking.jpg
END:VEVENT
BEGIN:VEVENT
DTSTART;TZID=America/New_York:20230308T150000
DTEND;TZID=America/New_York:20230310T170000
DTSTAMP:20260419T100231
CREATED:20230222T152533Z
LAST-MODIFIED:20230222T152533Z
UID:3206-1678287600-1678467600@lancerlocalnews.org
SUMMARY:BPA State Leadership Conference
DESCRIPTION:
URL:https://lancerlocalnews.org/event/bpa-state-leadership-conference/
LOCATION:Illinois
CATEGORIES:BPA Events
ATTACH;FMTTYPE=image/jpeg:https://lancerlocalnews.org/wp-content/uploads/2023/02/OH-4_Federal-Hocking.jpg
END:VEVENT
END:VCALENDAR