BEGIN:VCALENDAR
VERSION:2.0
PRODID:-//Lancer Local News - ECPv6.15.20//NONSGML v1.0//EN
CALSCALE:GREGORIAN
METHOD:PUBLISH
X-WR-CALNAME:Lancer Local News
X-ORIGINAL-URL:https://lancerlocalnews.org
X-WR-CALDESC:Events for Lancer Local News
REFRESH-INTERVAL;VALUE=DURATION:PT1H
X-Robots-Tag:noindex
X-PUBLISHED-TTL:PT1H
BEGIN:VTIMEZONE
TZID:America/New_York
BEGIN:DAYLIGHT
TZOFFSETFROM:-0500
TZOFFSETTO:-0400
TZNAME:EDT
DTSTART:20200308T070000
END:DAYLIGHT
BEGIN:STANDARD
TZOFFSETFROM:-0400
TZOFFSETTO:-0500
TZNAME:EST
DTSTART:20201101T060000
END:STANDARD
BEGIN:DAYLIGHT
TZOFFSETFROM:-0500
TZOFFSETTO:-0400
TZNAME:EDT
DTSTART:20210314T070000
END:DAYLIGHT
BEGIN:STANDARD
TZOFFSETFROM:-0400
TZOFFSETTO:-0500
TZNAME:EST
DTSTART:20211107T060000
END:STANDARD
BEGIN:DAYLIGHT
TZOFFSETFROM:-0500
TZOFFSETTO:-0400
TZNAME:EDT
DTSTART:20220313T070000
END:DAYLIGHT
BEGIN:STANDARD
TZOFFSETFROM:-0400
TZOFFSETTO:-0500
TZNAME:EST
DTSTART:20221106T060000
END:STANDARD
BEGIN:DAYLIGHT
TZOFFSETFROM:-0500
TZOFFSETTO:-0400
TZNAME:EDT
DTSTART:20230312T070000
END:DAYLIGHT
BEGIN:STANDARD
TZOFFSETFROM:-0400
TZOFFSETTO:-0500
TZNAME:EST
DTSTART:20231105T060000
END:STANDARD
BEGIN:DAYLIGHT
TZOFFSETFROM:-0500
TZOFFSETTO:-0400
TZNAME:EDT
DTSTART:20240310T070000
END:DAYLIGHT
BEGIN:STANDARD
TZOFFSETFROM:-0400
TZOFFSETTO:-0500
TZNAME:EST
DTSTART:20241103T060000
END:STANDARD
END:VTIMEZONE
BEGIN:VEVENT
DTSTART;TZID=America/New_York:20231114T150000
DTEND;TZID=America/New_York:20231114T170000
DTSTAMP:20260419T130508
CREATED:20231113T150930Z
LAST-MODIFIED:20231113T150930Z
UID:3841-1699974000-1699981200@lancerlocalnews.org
SUMMARY:Winter Sports Pictures
DESCRIPTION:
URL:https://lancerlocalnews.org/event/winter-sports-pictures/
CATEGORIES:Athletics
ATTACH;FMTTYPE=image/jpeg:https://lancerlocalnews.org/wp-content/uploads/2023/10/qtq80-p1ZkO0.jpeg
END:VEVENT
BEGIN:VEVENT
DTSTART;TZID=America/New_York:20230307T180000
DTEND;TZID=America/New_York:20230307T200000
DTSTAMP:20260419T130508
CREATED:20230303T141228Z
LAST-MODIFIED:20230307T142614Z
UID:3284-1678212000-1678219200@lancerlocalnews.org
SUMMARY:Regional Semi-Final Boys Basketball
DESCRIPTION:Our District Champs head to the Regional Semi-Finals! (Note Time Change)
URL:https://lancerlocalnews.org/event/regional-semi-final-boys-basketball/
LOCATION:Ohio University Convocation Center\, 95 Richland Avenue\, Athens\, OH\, 45701\, United States
CATEGORIES:Athletics
ATTACH;FMTTYPE=image/png:https://lancerlocalnews.org/wp-content/uploads/2023/03/regionals.png
END:VEVENT
BEGIN:VEVENT
DTSTART;TZID=America/New_York:20230302T181500
DTEND;TZID=America/New_York:20230302T200000
DTSTAMP:20260419T130508
CREATED:20230228T132110Z
LAST-MODIFIED:20230301T135231Z
UID:3264-1677780900-1677787200@lancerlocalnews.org
SUMMARY:Boys Basketball District Finals! (NOTE TIME CHANGE!)
DESCRIPTION:
URL:https://lancerlocalnews.org/event/boys-basketball-district-finals/
LOCATION:Ohio University Convocation Center\, 95 Richland Avenue\, Athens\, OH\, 45701\, United States
CATEGORIES:Athletics
ATTACH;FMTTYPE=image/png:https://lancerlocalnews.org/wp-content/uploads/2023/02/Division-IV-District-Finals.png
END:VEVENT
BEGIN:VEVENT
DTSTART;TZID=America/New_York:20230224T190000
DTEND;TZID=America/New_York:20230224T210000
DTSTAMP:20260419T130508
CREATED:20230222T151417Z
LAST-MODIFIED:20230222T151417Z
UID:3193-1677265200-1677272400@lancerlocalnews.org
SUMMARY:Boys Basketball - Sectional Final
DESCRIPTION:
URL:https://lancerlocalnews.org/event/boys-basketball-sectional-final/
CATEGORIES:Athletics
ATTACH;FMTTYPE=image/jpeg:https://lancerlocalnews.org/wp-content/uploads/2023/02/8F2484E3-EBD9-4FBB-AA1E-0316E2C670B2.jpg
END:VEVENT
BEGIN:VEVENT
DTSTART;VALUE=DATE:20221111
DTEND;VALUE=DATE:20221112
DTSTAMP:20260419T130508
CREATED:20221006T143823Z
LAST-MODIFIED:20221006T143823Z
UID:2950-1668124800-1668211199@lancerlocalnews.org
SUMMARY:Wrestling Practice Begins
DESCRIPTION:There is a sign up sheet in the office for anyone interested in wrestling this year. The first official day of practice is November 11. 
URL:https://lancerlocalnews.org/event/wrestling-practice-begins/
LOCATION:Federal Hocking HS/MS\, 8461 St Rt 144\, Stewart\, OH\, 45778\, United States
CATEGORIES:Athletics
ATTACH;FMTTYPE=image/jpeg:https://lancerlocalnews.org/wp-content/uploads/2022/10/qtq80-QrgII0.jpeg
END:VEVENT
BEGIN:VEVENT
DTSTART;TZID=America/New_York:20211117T183000
DTEND;TZID=America/New_York:20211117T183000
DTSTAMP:20260419T130508
CREATED:20211117T132313Z
LAST-MODIFIED:20211117T132313Z
UID:1809-1637173800-1637173800@lancerlocalnews.org
SUMMARY:Fall Sports Award Banquet
DESCRIPTION:
URL:https://lancerlocalnews.org/event/fall-sports-award-banquet/
LOCATION:Federal Hocking HS Auditorium\, 8461 St Rt 144\, Stewart\, OH\, 45778\, United States
CATEGORIES:Athletics
ATTACH;FMTTYPE=image/png:https://lancerlocalnews.org/wp-content/uploads/2021/11/image.png
END:VEVENT
END:VCALENDAR